BEGIN:VCALENDAR
VERSION:2.0
PRODID:-//Belong Ottawa - ECPv6.15.20//NONSGML v1.0//EN
CALSCALE:GREGORIAN
METHOD:PUBLISH
X-ORIGINAL-URL:https://belongottawa.ca
X-WR-CALDESC:Events for Belong Ottawa
REFRESH-INTERVAL;VALUE=DURATION:PT1H
X-Robots-Tag:noindex
X-PUBLISHED-TTL:PT1H
BEGIN:VTIMEZONE
TZID:America/Toronto
BEGIN:DAYLIGHT
TZOFFSETFROM:-0500
TZOFFSETTO:-0400
TZNAME:EDT
DTSTART:20220313T070000
END:DAYLIGHT
BEGIN:STANDARD
TZOFFSETFROM:-0400
TZOFFSETTO:-0500
TZNAME:EST
DTSTART:20221106T060000
END:STANDARD
BEGIN:DAYLIGHT
TZOFFSETFROM:-0500
TZOFFSETTO:-0400
TZNAME:EDT
DTSTART:20230312T070000
END:DAYLIGHT
BEGIN:STANDARD
TZOFFSETFROM:-0400
TZOFFSETTO:-0500
TZNAME:EST
DTSTART:20231105T060000
END:STANDARD
BEGIN:DAYLIGHT
TZOFFSETFROM:-0500
TZOFFSETTO:-0400
TZNAME:EDT
DTSTART:20240310T070000
END:DAYLIGHT
BEGIN:STANDARD
TZOFFSETFROM:-0400
TZOFFSETTO:-0500
TZNAME:EST
DTSTART:20241103T060000
END:STANDARD
END:VTIMEZONE
BEGIN:VEVENT
DTSTART;TZID=America/Toronto:20230705T100000
DTEND;TZID=America/Toronto:20230705T110000
DTSTAMP:20260425T101126
CREATED:20230705T150126Z
LAST-MODIFIED:20231101T162251Z
UID:101623-1688551200-1688554800@belongottawa.ca
SUMMARY:Sandy Hill Outreach Nurse on Site
DESCRIPTION:
URL:https://belongottawa.ca/event/sandy-hill-outreach-nurse-on-site/
LOCATION:Centre 454\, 454 King Edward Ave.\, Ottawa\, Ontario\, K1N 7M8\, Canada
CATEGORIES:Centre 454
ATTACH;FMTTYPE=image/jpeg:https://belongottawa.ca/wp-content/uploads/2023/07/pexels-karolina-grabowska-4386466-scaled.jpg
END:VEVENT
BEGIN:VEVENT
DTSTART;TZID=America/Toronto:20230503T120000
DTEND;TZID=America/Toronto:20230503T130000
DTSTAMP:20260425T101126
CREATED:20230421T151821Z
LAST-MODIFIED:20231101T154621Z
UID:101548-1683115200-1683118800@belongottawa.ca
SUMMARY:Spiritual Care with the Deacon Jarrett
DESCRIPTION:
URL:https://belongottawa.ca/event/spiritual-care-with-the-deacon-jarrett/
LOCATION:The Well\, 154 Somerset St. West\, Ottawa\, Ontario\, K2P 0H8\, Canada
CATEGORIES:The Well
ATTACH;FMTTYPE=image/jpeg:https://belongottawa.ca/wp-content/uploads/2023/01/cartyjarrett.jpg
END:VEVENT
BEGIN:VEVENT
DTSTART;TZID=America/Toronto:20230906T130000
DTEND;TZID=America/Toronto:20230906T140000
DTSTAMP:20260425T101126
CREATED:20230830T154538Z
LAST-MODIFIED:20231101T170929Z
UID:101726-1694005200-1694008800@belongottawa.ca
SUMMARY:BINGO
DESCRIPTION:
URL:https://belongottawa.ca/event/bingo/
LOCATION:St Luke’s Table\, 211 Bronson Ave.\, Ottawa\, Ontario\, K1R 6H5\, Canada
CATEGORIES:St Luke's Table
ATTACH;FMTTYPE=image/jpeg:https://belongottawa.ca/wp-content/uploads/2022/10/mick-haupt-3UbsiRcrFV4-unsplash-scaled.jpg
END:VEVENT
END:VCALENDAR